BEGIN:VCALENDAR
VERSION:2.0
PRODID:-//DAV Sektion Südharz/Sangerhausen e.V. - ECPv6.15.20//NONSGML v1.0//EN
CALSCALE:GREGORIAN
METHOD:PUBLISH
X-WR-CALNAME:DAV Sektion Südharz/Sangerhausen e.V.
X-ORIGINAL-URL:https://www.dav-suedharz.de
X-WR-CALDESC:Veranstaltungen für DAV Sektion Südharz/Sangerhausen e.V.
REFRESH-INTERVAL;VALUE=DURATION:PT1H
X-Robots-Tag:noindex
X-PUBLISHED-TTL:PT1H
BEGIN:VTIMEZONE
TZID:Europe/Berlin
BEGIN:DAYLIGHT
TZOFFSETFROM:+0100
TZOFFSETTO:+0200
TZNAME:CEST
DTSTART:20190331T010000
END:DAYLIGHT
BEGIN:STANDARD
TZOFFSETFROM:+0200
TZOFFSETTO:+0100
TZNAME:CET
DTSTART:20191027T010000
END:STANDARD
BEGIN:DAYLIGHT
TZOFFSETFROM:+0100
TZOFFSETTO:+0200
TZNAME:CEST
DTSTART:20200329T010000
END:DAYLIGHT
BEGIN:STANDARD
TZOFFSETFROM:+0200
TZOFFSETTO:+0100
TZNAME:CET
DTSTART:20201025T010000
END:STANDARD
BEGIN:DAYLIGHT
TZOFFSETFROM:+0100
TZOFFSETTO:+0200
TZNAME:CEST
DTSTART:20210328T010000
END:DAYLIGHT
BEGIN:STANDARD
TZOFFSETFROM:+0200
TZOFFSETTO:+0100
TZNAME:CET
DTSTART:20211031T010000
END:STANDARD
END:VTIMEZONE
BEGIN:VEVENT
DTSTART;TZID=Europe/Berlin:20200510T140000
DTEND;TZID=Europe/Berlin:20200510T180000
DTSTAMP:20260426T005907
CREATED:20200107T143905Z
LAST-MODIFIED:20200107T143905Z
UID:921-1589119200-1589133600@www.dav-suedharz.de
SUMMARY:Frühlingswanderung rund um Grillenberg
DESCRIPTION:Info und Anmeldung: Monika Bluschke (Tel.: 03464 587157\, E-Mail: mailto:m.bluschke@harz-mountains.net)
URL:https://www.dav-suedharz.de/event/fruehlingswanderung-rund-um-grillenberg/
END:VEVENT
END:VCALENDAR