BEGIN:VCALENDAR
VERSION:2.0
PRODID:-//DAV Sektion Südharz/Sangerhausen e.V. - ECPv6.15.20//NONSGML v1.0//EN
CALSCALE:GREGORIAN
METHOD:PUBLISH
X-ORIGINAL-URL:https://www.dav-suedharz.de
X-WR-CALDESC:Veranstaltungen für DAV Sektion Südharz/Sangerhausen e.V.
REFRESH-INTERVAL;VALUE=DURATION:PT1H
X-Robots-Tag:noindex
X-PUBLISHED-TTL:PT1H
BEGIN:VTIMEZONE
TZID:Europe/Berlin
BEGIN:DAYLIGHT
TZOFFSETFROM:+0100
TZOFFSETTO:+0200
TZNAME:CEST
DTSTART:20180325T010000
END:DAYLIGHT
BEGIN:STANDARD
TZOFFSETFROM:+0200
TZOFFSETTO:+0100
TZNAME:CET
DTSTART:20181028T010000
END:STANDARD
BEGIN:DAYLIGHT
TZOFFSETFROM:+0100
TZOFFSETTO:+0200
TZNAME:CEST
DTSTART:20190331T010000
END:DAYLIGHT
BEGIN:STANDARD
TZOFFSETFROM:+0200
TZOFFSETTO:+0100
TZNAME:CET
DTSTART:20191027T010000
END:STANDARD
BEGIN:DAYLIGHT
TZOFFSETFROM:+0100
TZOFFSETTO:+0200
TZNAME:CEST
DTSTART:20200329T010000
END:DAYLIGHT
BEGIN:STANDARD
TZOFFSETFROM:+0200
TZOFFSETTO:+0100
TZNAME:CET
DTSTART:20201025T010000
END:STANDARD
END:VTIMEZONE
BEGIN:VEVENT
DTSTART;VALUE=DATE:20190830
DTEND;VALUE=DATE:20190902
DTSTAMP:20260425T182751
CREATED:20190616T165139Z
LAST-MODIFIED:20190616T165538Z
UID:633-1567123200-1567382399@www.dav-suedharz.de
SUMMARY:Kletterfahrt in die Allgäuer Alpen
DESCRIPTION:Alpine Mehrseillängenrouten im IV. bis V. UIAA-Schwierigkeitsgrad \nMögliche Ziele:\n– Geiselstein (1879 m) mit Stützpunkt Kenzenhütte\n– Aggenstein (1985 m) mit Stützpunkt Bad Kissinger Hütte\n– Tannheimer Berge mit Stützpunkt Gimpelhaus \nInfos und Anmeldung:\n\n                    \n                \n                  \n                    \n                      \n                    \n                    \n                        Florian Herzog\n                        Fachübungsleiter - Hochtouren\n                      \n                      \n                    \n                    \n                    \n                    \n                     0176 61566651 mail@fherzog.de
URL:https://www.dav-suedharz.de/event/kletterfahrt-in-die-allgaeuer-alpen/
END:VEVENT
BEGIN:VEVENT
DTSTART;VALUE=DATE:20190906
DTEND;VALUE=DATE:20190909
DTSTAMP:20260425T182751
CREATED:20190802T114219Z
LAST-MODIFIED:20190802T114219Z
UID:738-1567728000-1567987199@www.dav-suedharz.de
SUMMARY:Bergtour Drei Zinnen
DESCRIPTION:Wir steigen über den Normalweg auf die Große Zinne (2.999 m) \nInfo: Michael
URL:https://www.dav-suedharz.de/event/bergtour-drei-zinnen/
END:VEVENT
BEGIN:VEVENT
DTSTART;VALUE=DATE:20190920
DTEND;VALUE=DATE:20190923
DTSTAMP:20260425T182751
CREATED:20190802T115015Z
LAST-MODIFIED:20190802T115015Z
UID:745-1568937600-1569196799@www.dav-suedharz.de
SUMMARY:Bundesjugendleitertag
DESCRIPTION:Das höchste Gremium der Jugend im Deutschen Alpenverein tagt dieses Jahr in Nürnberg. Auch wir werden hier die Interessen unserer Vereinsjugend und die des Landesverbandes JDAV Sachsen-Anhalt vertreten.
URL:https://www.dav-suedharz.de/event/bundesjugendleitertag/
END:VEVENT
BEGIN:VEVENT
DTSTART;VALUE=DATE:20190921
DTEND;VALUE=DATE:20190923
DTSTAMP:20260425T182751
CREATED:20190803T154523Z
LAST-MODIFIED:20190803T154523Z
UID:747-1569024000-1569196799@www.dav-suedharz.de
SUMMARY:Mobile Kletterwand zum Kinderfest in Brücken
DESCRIPTION:
URL:https://www.dav-suedharz.de/event/mobile-kletterwand-zum-kinderfest-in-bruecken/
END:VEVENT
BEGIN:VEVENT
DTSTART;TZID=Europe/Berlin:20190928T140000
DTEND;TZID=Europe/Berlin:20190928T170000
DTSTAMP:20260425T182751
CREATED:20190911T111229Z
LAST-MODIFIED:20190911T111229Z
UID:791-1569679200-1569690000@www.dav-suedharz.de
SUMMARY:Betreuung Geburtstagsfeier am Mammutfelsen/Kletteratelier
DESCRIPTION:Familie Meyer \nKontakt: Michael
URL:https://www.dav-suedharz.de/event/betreuung-geburtstagsfeier-am-mammutfelsen-kletteratelier/
END:VEVENT
END:VCALENDAR