BEGIN:VCALENDAR
VERSION:2.0
PRODID:-//DAV Sektion Südharz/Sangerhausen e.V. - ECPv6.15.20//NONSGML v1.0//EN
CALSCALE:GREGORIAN
METHOD:PUBLISH
X-WR-CALNAME:DAV Sektion Südharz/Sangerhausen e.V.
X-ORIGINAL-URL:https://www.dav-suedharz.de
X-WR-CALDESC:Veranstaltungen für DAV Sektion Südharz/Sangerhausen e.V.
REFRESH-INTERVAL;VALUE=DURATION:PT1H
X-Robots-Tag:noindex
X-PUBLISHED-TTL:PT1H
BEGIN:VTIMEZONE
TZID:Europe/Berlin
BEGIN:DAYLIGHT
TZOFFSETFROM:+0100
TZOFFSETTO:+0200
TZNAME:CEST
DTSTART:20230326T010000
END:DAYLIGHT
BEGIN:STANDARD
TZOFFSETFROM:+0200
TZOFFSETTO:+0100
TZNAME:CET
DTSTART:20231029T010000
END:STANDARD
BEGIN:DAYLIGHT
TZOFFSETFROM:+0100
TZOFFSETTO:+0200
TZNAME:CEST
DTSTART:20240331T010000
END:DAYLIGHT
BEGIN:STANDARD
TZOFFSETFROM:+0200
TZOFFSETTO:+0100
TZNAME:CET
DTSTART:20241027T010000
END:STANDARD
BEGIN:DAYLIGHT
TZOFFSETFROM:+0100
TZOFFSETTO:+0200
TZNAME:CEST
DTSTART:20250330T010000
END:DAYLIGHT
BEGIN:STANDARD
TZOFFSETFROM:+0200
TZOFFSETTO:+0100
TZNAME:CET
DTSTART:20251026T010000
END:STANDARD
END:VTIMEZONE
BEGIN:VEVENT
DTSTART;TZID=Europe/Berlin:20241003T100000
DTEND;TZID=Europe/Berlin:20241003T170000
DTSTAMP:20260419T162421
CREATED:20240522T063334Z
LAST-MODIFIED:20241001T163047Z
UID:1618-1727949600-1727974800@www.dav-suedharz.de
SUMMARY:Auf historischen Pfaden
DESCRIPTION:Diese Wanderung führt uns hinauf über die Sachsenburgen\, nach Bilzingsleben (Steinrinne)\, weiter nach Kindelbrück (Gründelsloch) und im weiteren Verlauf wieder zurück zum Ausgangspunkt. \nEine Möglichkeit zur Einkehr besteht in Bilzingsleben. \nTreffpunkt: Parkplatz unterhalb der Sachsenburgen im Ort Sachsenburg \nDazu: Rucksack mit entsprechender Marschverpflegung\, sowie passende Wander- Kleidung und Schuhe. \nWegstrecke: ca. 21\,0 km \nHöhenmeter: ca. ↑ 240 hm ↓ 240 hm \nAP GMS 51°17’34.4“N 11°09’50.5“E \nKontakt: Dieter Scharfe 0176 627 42540 & Thomas Heinz 0163 160 44 96
URL:https://www.dav-suedharz.de/event/auf-historischen-pfaden/
END:VEVENT
END:VCALENDAR