BEGIN:VCALENDAR
VERSION:2.0
PRODID:-//DAV Sektion Südharz/Sangerhausen e.V. - ECPv6.15.20//NONSGML v1.0//EN
CALSCALE:GREGORIAN
METHOD:PUBLISH
X-ORIGINAL-URL:https://www.dav-suedharz.de
X-WR-CALDESC:Veranstaltungen für DAV Sektion Südharz/Sangerhausen e.V.
REFRESH-INTERVAL;VALUE=DURATION:PT1H
X-Robots-Tag:noindex
X-PUBLISHED-TTL:PT1H
BEGIN:VTIMEZONE
TZID:Europe/Berlin
BEGIN:DAYLIGHT
TZOFFSETFROM:+0100
TZOFFSETTO:+0200
TZNAME:CEST
DTSTART:20180325T010000
END:DAYLIGHT
BEGIN:STANDARD
TZOFFSETFROM:+0200
TZOFFSETTO:+0100
TZNAME:CET
DTSTART:20181028T010000
END:STANDARD
BEGIN:DAYLIGHT
TZOFFSETFROM:+0100
TZOFFSETTO:+0200
TZNAME:CEST
DTSTART:20190331T010000
END:DAYLIGHT
BEGIN:STANDARD
TZOFFSETFROM:+0200
TZOFFSETTO:+0100
TZNAME:CET
DTSTART:20191027T010000
END:STANDARD
BEGIN:DAYLIGHT
TZOFFSETFROM:+0100
TZOFFSETTO:+0200
TZNAME:CEST
DTSTART:20200329T010000
END:DAYLIGHT
BEGIN:STANDARD
TZOFFSETFROM:+0200
TZOFFSETTO:+0100
TZNAME:CET
DTSTART:20201025T010000
END:STANDARD
END:VTIMEZONE
BEGIN:VEVENT
DTSTART;TZID=Europe/Berlin:20191117T093000
DTEND;TZID=Europe/Berlin:20191117T190000
DTSTAMP:20260425T144423
CREATED:20190925T065407Z
LAST-MODIFIED:20190925T065407Z
UID:822-1573983000-1574017200@www.dav-suedharz.de
SUMMARY:Kletterausflug der Jugendgruppe
DESCRIPTION:Gemeinsam mit anderen Sektionen des JDAV Landesverbands Sachsen-Anhalt wollen wir wieder einen Ausflug in eine Kletterhalle machen und dort einen tollen Tag mit Spaßwettkampf\, Bewegung und anderen Aktionen starten. Voraussichtlich geht es in diesem Jahr an den Kletterturm Mockau in Leipzig. \nInfo: Michael
URL:https://www.dav-suedharz.de/event/kletterausflug-der-jugendgruppe/
END:VEVENT
END:VCALENDAR