BEGIN:VCALENDAR
VERSION:2.0
PRODID:-//DAV Sektion Südharz/Sangerhausen e.V. - ECPv6.15.20//NONSGML v1.0//EN
CALSCALE:GREGORIAN
METHOD:PUBLISH
X-ORIGINAL-URL:https://www.dav-suedharz.de
X-WR-CALDESC:Veranstaltungen für DAV Sektion Südharz/Sangerhausen e.V.
REFRESH-INTERVAL;VALUE=DURATION:PT1H
X-Robots-Tag:noindex
X-PUBLISHED-TTL:PT1H
BEGIN:VTIMEZONE
TZID:Europe/Berlin
BEGIN:DAYLIGHT
TZOFFSETFROM:+0100
TZOFFSETTO:+0200
TZNAME:CEST
DTSTART:20180325T010000
END:DAYLIGHT
BEGIN:STANDARD
TZOFFSETFROM:+0200
TZOFFSETTO:+0100
TZNAME:CET
DTSTART:20181028T010000
END:STANDARD
BEGIN:DAYLIGHT
TZOFFSETFROM:+0100
TZOFFSETTO:+0200
TZNAME:CEST
DTSTART:20190331T010000
END:DAYLIGHT
BEGIN:STANDARD
TZOFFSETFROM:+0200
TZOFFSETTO:+0100
TZNAME:CET
DTSTART:20191027T010000
END:STANDARD
BEGIN:DAYLIGHT
TZOFFSETFROM:+0100
TZOFFSETTO:+0200
TZNAME:CEST
DTSTART:20200329T010000
END:DAYLIGHT
BEGIN:STANDARD
TZOFFSETFROM:+0200
TZOFFSETTO:+0100
TZNAME:CET
DTSTART:20201025T010000
END:STANDARD
END:VTIMEZONE
BEGIN:VEVENT
DTSTART;TZID=Europe/Berlin:20191012T090000
DTEND;TZID=Europe/Berlin:20191012T130000
DTSTAMP:20260425T182714
CREATED:20190616T165400Z
LAST-MODIFIED:20190616T165447Z
UID:636-1570870800-1570885200@www.dav-suedharz.de
SUMMARY:Herbstputz
DESCRIPTION:Herbstputz auf unserem Vereinsgelände 🙂 \nInfos:\n\n                    \n                \n                  \n                    \n                      \n                    \n                    \n                        Michael Axt\n                        Jugendleiter\n                      \n                      \n                    \n                    \n                    \n                    \n                     0176 44558211 michael.axt@dav-suedharz.de
URL:https://www.dav-suedharz.de/event/herbstputz/
END:VEVENT
END:VCALENDAR