BEGIN:VCALENDAR
VERSION:2.0
PRODID:-//DAV Sektion Südharz/Sangerhausen e.V. - ECPv6.15.20//NONSGML v1.0//EN
CALSCALE:GREGORIAN
METHOD:PUBLISH
X-WR-CALNAME:DAV Sektion Südharz/Sangerhausen e.V.
X-ORIGINAL-URL:https://www.dav-suedharz.de
X-WR-CALDESC:Veranstaltungen für DAV Sektion Südharz/Sangerhausen e.V.
REFRESH-INTERVAL;VALUE=DURATION:PT1H
X-Robots-Tag:noindex
X-PUBLISHED-TTL:PT1H
BEGIN:VTIMEZONE
TZID:Europe/Berlin
BEGIN:DAYLIGHT
TZOFFSETFROM:+0100
TZOFFSETTO:+0200
TZNAME:CEST
DTSTART:20180325T010000
END:DAYLIGHT
BEGIN:STANDARD
TZOFFSETFROM:+0200
TZOFFSETTO:+0100
TZNAME:CET
DTSTART:20181028T010000
END:STANDARD
BEGIN:DAYLIGHT
TZOFFSETFROM:+0100
TZOFFSETTO:+0200
TZNAME:CEST
DTSTART:20190331T010000
END:DAYLIGHT
BEGIN:STANDARD
TZOFFSETFROM:+0200
TZOFFSETTO:+0100
TZNAME:CET
DTSTART:20191027T010000
END:STANDARD
BEGIN:DAYLIGHT
TZOFFSETFROM:+0100
TZOFFSETTO:+0200
TZNAME:CEST
DTSTART:20200329T010000
END:DAYLIGHT
BEGIN:STANDARD
TZOFFSETFROM:+0200
TZOFFSETTO:+0100
TZNAME:CET
DTSTART:20201025T010000
END:STANDARD
END:VTIMEZONE
BEGIN:VEVENT
DTSTART;VALUE=DATE:20190705
DTEND;VALUE=DATE:20190708
DTSTAMP:20260425T232030
CREATED:20190616T164803Z
LAST-MODIFIED:20190616T165510Z
UID:622-1562284800-1562543999@www.dav-suedharz.de
SUMMARY:Hochtouren im Umfeld des Ramolhauses 3006 m
DESCRIPTION:Gipfelmöglichkeiten: Ramolkögel; Großer- 3550m\, Mittlerer- 3518m\, Nördlicher- (Ansichspitze) 3428m\, Kleiner- 3351m\, Hinterer Spiegelkogel 3426m und Firmisanschneide 3491m. \nInfos und Anmeldung:\n\n                    \n                \n                  \n                    \n                      \n                    \n                    \n                        Uwe Lange\n                        Fachübungsleiter - Bergsteigen & Eisklettern\n                      \n                      \n                    \n                    \n                    \n                    \n                     0163 1778881 uweklauslange@gmail.com0163
URL:https://www.dav-suedharz.de/event/hochtouren-im-umfeld-des-ramolhauses-3006-m/
END:VEVENT
END:VCALENDAR